BEGIN:VCALENDAR
VERSION:2.0
PRODID:-//ChamberMaster//Event Calendar 2.0//EN
METHOD:PUBLISH
X-PUBLISHED-TTL:P3D
REFRESH-INTERVAL:P3D
CALSCALE:GREGORIAN
BEGIN:VEVENT
DTSTART:20241207T160000Z
DTEND:20241207T230000Z
X-MICROSOFT-CDO-ALLDAYEVENT:FALSE
SUMMARY:Winter in the Park
DESCRIPTION:HoHoHo Huntsville!!! Join us for our Annual Winter in the Park celebration during the most wonderful time of the year!!! There will be many fun activities and holiday crafts like cookie decorating\, face painting\, letters to Santa\, making Reindeer food\, and more!!! Main Street will also be hosting their Annual Christmas Fair!! So make sure you stop by there to have even more holiday fun!
X-ALT-DESC;FMTTYPE=text/html:HoHoHo Huntsville!!! Join us for our Annual Winter in the Park celebration during the most wonderful time of the year!!! There will be many fun activities and holiday crafts like cookie decorating\, face painting\, letters to Santa\, making Reindeer food\, and more!!! Main Street will also be hosting their Annual Christmas Fair!! So make sure you stop by there to have even more holiday fun!
LOCATION:Rather Park\, Huntsville\, TX 77340
UID:e.1145.18220
SEQUENCE:3
DTSTAMP:20260421T234344Z
URL:https://business.huntsvillewalkerchamber.com/events/details/winter-in-the-park-12-07-2024-18220
END:VEVENT

END:VCALENDAR
