BEGIN:VCALENDAR
VERSION:2.0
PRODID:-//ChamberMaster//Event Calendar 2.0//EN
METHOD:PUBLISH
X-PUBLISHED-TTL:P3D
REFRESH-INTERVAL:P3D
CALSCALE:GREGORIAN
BEGIN:VEVENT
DTSTART:20240117T200000Z
DTEND:20240117T220000Z
X-MICROSOFT-CDO-ALLDAYEVENT:FALSE
SUMMARY:WCGS Writing Circle
DESCRIPTION:Join WCGS to learn how to start writing your Family History. This come and go style event is designed to help you start writing\, get over roadblocks\, learn about self-publishing and more.
X-ALT-DESC;FMTTYPE=text/html:Join WCGS to learn how to start writing your Family History. This come and go style event is designed to help you start writing\, get over roadblocks\, learn about self-publishing and more.
LOCATION:Huntsville Public Library 1219 13th Street Huntsville\, TX 77340
UID:e.1145.17525
SEQUENCE:3
DTSTAMP:20260423T084031Z
URL:https://business.huntsvillewalkerchamber.com/events/details/wcgs-writing-circle-17525
END:VEVENT

END:VCALENDAR
