BEGIN:VCALENDAR
VERSION:2.0
PRODID:-//ChamberMaster//Event Calendar 2.0//EN
METHOD:PUBLISH
X-PUBLISHED-TTL:P3D
REFRESH-INTERVAL:P3D
CALSCALE:GREGORIAN
BEGIN:VEVENT
DTSTART:20240826T160000Z
DTEND:20240826T180000Z
X-MICROSOFT-CDO-ALLDAYEVENT:FALSE
SUMMARY:Walker County Republican Women's August Meeting
DESCRIPTION:Congressman Pete Sessions\, the U.S. Representative for Texas 17th District\, will be the guest speaker on Monday August 26\, 2024\, at the Walker County Republican Women's (WCRW) luncheon meeting. This event is free and open to the public. Event begins at 11:00 a.m. with lunch\, followed by a brief business meeting at 11:30a.m. The Congressman's program begins shortly after. The lunch will be provided by the WCRW members\, and the community is invited to attend. Please RSVP to WCRW.Hospitality@gmail.com if you plan to join them for lunch.
X-ALT-DESC;FMTTYPE=text/html:Congressman Pete Sessions\, the U.S. Representative for Texas 17th District\, will be the guest speaker on Monday August 26\, 2024\, at the Walker County Republican Women&#39\;s (WCRW) luncheon meeting. This event is free and open to the public. Event begins at 11:00 a.m. with lunch\, followed by a brief business meeting at 11:30a.m. The Congressman&rsquo\;s program begins shortly after. The lunch will be provided by the WCRW members\, and the community is invited to attend. Please RSVP to WCRW.Hospitality@gmail.com if you plan to join them for lunch.
LOCATION:Kay and E. Don Walker Education Center\, Gibbs Hall\, 1402 19th St Huntsville\, Texas
UID:e.1145.18179
SEQUENCE:3
DTSTAMP:20260422T034944Z
URL:https://business.huntsvillewalkerchamber.com/events/details/walker-county-republican-women-s-august-meeting-18179
END:VEVENT

END:VCALENDAR
