BEGIN:VCALENDAR
VERSION:2.0
PRODID:-//ChamberMaster//Event Calendar 2.0//EN
METHOD:PUBLISH
X-PUBLISHED-TTL:P3D
REFRESH-INTERVAL:P3D
CALSCALE:GREGORIAN
BEGIN:VEVENT
DTSTART:20241021T160000Z
DTEND:20241021T183000Z
X-MICROSOFT-CDO-ALLDAYEVENT:FALSE
SUMMARY:Walker County Republican Women Luncheon Meeting
DESCRIPTION:State Senator Charles Schwertner\, who represents Walker County in Senatorial District 5\, will be the guest speaker on Monday October 21\, 2024\, at the Walker County Republican Women (WCRW) luncheon meeting. He will be joined by Trey Wharton\, candidate for State Representative District 12\, who will speak about his recent trip to the Texas-Mexico border. This event is free and open to the public. Networking begins at 11:00 a.m. with lunch\, followed by a brief business meeting at 11:30a.m. with the program shortly after. The meeting will be held at the Katy and E. Don Walker Education Center\, lower level at Gibbs Hall\, located at 1402 19th Street\, Huntsville Texas 77340. For more information\, visit the WCRW website\, wcrwtx.org or email us at walkercountyrepublicanwomen@gmail.com
X-ALT-DESC;FMTTYPE=text/html:State Senator Charles Schwertner\, who represents Walker County in Senatorial District 5\, will be the guest speaker on Monday October 21\, 2024\, at the Walker County Republican Women (WCRW) luncheon meeting. He will be joined by Trey Wharton\, candidate for State Representative District 12\, who will speak about his recent trip to the Texas-Mexico border. This event is free and open to the public. Networking begins at 11:00 a.m. with lunch\, followed by a brief business meeting at 11:30a.m. with the program shortly after. The meeting will be held at the Katy and E. Don Walker Education Center\, lower level at Gibbs Hall\, located at 1402 19th Street\, Huntsville Texas 77340. For more information\, visit the WCRW website\, wcrwtx.org or email us at walkercountyrepublicanwomen@gmail.com
LOCATION:Walker Education Center\, Gibbs Hall at 1402 19th St\, Huntsville\, Texas 77340
UID:e.1145.18216
SEQUENCE:3
DTSTAMP:20260422T025800Z
URL:https://business.huntsvillewalkerchamber.com/events/details/walker-county-republican-women-luncheon-meeting-18216
END:VEVENT

END:VCALENDAR
