BEGIN:VCALENDAR
VERSION:2.0
PRODID:-//ChamberMaster//Event Calendar 2.0//EN
METHOD:PUBLISH
X-PUBLISHED-TTL:P3D
REFRESH-INTERVAL:P3D
CALSCALE:GREGORIAN
BEGIN:VEVENT
DTSTART:20240518T160000Z
DTEND:20240518T180000Z
X-MICROSOFT-CDO-ALLDAYEVENT:FALSE
SUMMARY:Walker County Genealogy Society Meeting
DESCRIPTION:Saturday\, May 18th 11AM at the Huntsville Public Library Join us to get information about the State of the Society as we strive to further the knowledge of genealogical research. We will also have a covered dish lunch.
X-ALT-DESC;FMTTYPE=text/html:Saturday\, May 18th 11AM at the Huntsville Public Library Join us to get information about the State of the Society as we strive to further the knowledge of genealogical research. We will also have a covered dish lunch.
LOCATION:Huntsville Public Library 1219 13th Street Huntsville\, TX 77340
UID:e.1145.17880
SEQUENCE:3
DTSTAMP:20260422T084521Z
URL:https://business.huntsvillewalkerchamber.com/events/details/walker-county-genealogy-society-meeting-17880
END:VEVENT

END:VCALENDAR
