BEGIN:VCALENDAR
VERSION:2.0
PRODID:-//ChamberMaster//Event Calendar 2.0//EN
METHOD:PUBLISH
X-PUBLISHED-TTL:P3D
REFRESH-INTERVAL:P3D
CALSCALE:GREGORIAN
BEGIN:VEVENT
DTSTART:20240907T000000Z
DTEND:20240907T020000Z
X-MICROSOFT-CDO-ALLDAYEVENT:FALSE
SUMMARY:Vinyl Radio: A Tribute to the 70's
DESCRIPTION:Step back in time and relive the hits of the 70's when Vinyl Radio takes the stage.
X-ALT-DESC;FMTTYPE=text/html:Step back in time and relive the hits of the 70&#39\;s when Vinyl Radio takes the stage.
LOCATION:1023 12th street Huntsville\, Texas 77340
UID:e.1145.18162
SEQUENCE:3
DTSTAMP:20260422T015920Z
URL:https://business.huntsvillewalkerchamber.com/events/details/vinyl-radio-a-tribute-to-the-70-s-18162
END:VEVENT

END:VCALENDAR
