BEGIN:VCALENDAR
VERSION:2.0
PRODID:-//ChamberMaster//Event Calendar 2.0//EN
METHOD:PUBLISH
X-PUBLISHED-TTL:P3D
REFRESH-INTERVAL:P3D
CALSCALE:GREGORIAN
BEGIN:VEVENT
DTSTART:20240825T003000Z
DTEND:20240825T020000Z
X-MICROSOFT-CDO-ALLDAYEVENT:FALSE
SUMMARY:The Isaacs- Bluegrass / Gospen
DESCRIPTION:The Isaacs family will entertain us with their amazing talent while performing bluegrass and gospel. They are featured on the Grand Ole Opry on a regular basis. This is a show you will not want to miss.
X-ALT-DESC;FMTTYPE=text/html:The Isaacs family will entertain us with their amazing talent while performing bluegrass and gospel. They are featured on the Grand Ole Opry on a regular basis. This is a show you will not want to miss.
LOCATION:Old Town Theatre 1023 12th Street Huntsville\, Texas 77340
UID:e.1145.18160
SEQUENCE:3
DTSTAMP:20260422T053454Z
URL:https://business.huntsvillewalkerchamber.com/events/details/the-isaacs-bluegrass-gospen-18160
END:VEVENT

END:VCALENDAR
