BEGIN:VCALENDAR
VERSION:2.0
PRODID:-//ChamberMaster//Event Calendar 2.0//EN
METHOD:PUBLISH
X-PUBLISHED-TTL:P3D
REFRESH-INTERVAL:P3D
CALSCALE:GREGORIAN
BEGIN:VEVENT
DTSTART:20240323T130000Z
DTEND:20240323T180000Z
X-MICROSOFT-CDO-ALLDAYEVENT:FALSE
SUMMARY:Texas Thyme Unit of the Herb Society of America Herb Festival
DESCRIPTION:Texas Thyme Unit of the Herb Society of America Herb Festival at the Wynne Home
X-ALT-DESC;FMTTYPE=text/html:Texas Thyme Unit of the Herb Society of America Herb Festival at the Wynne Home
LOCATION:1428 11th Street Huntsville\, Texas 77340
UID:e.1145.17422
SEQUENCE:3
DTSTAMP:20260422T114701Z
URL:https://business.huntsvillewalkerchamber.com/events/details/texas-thyme-unit-of-the-herb-society-of-america-herb-festival-17422
END:VEVENT

END:VCALENDAR
