BEGIN:VCALENDAR
VERSION:2.0
PRODID:-//ChamberMaster//Event Calendar 2.0//EN
METHOD:PUBLISH
X-PUBLISHED-TTL:P3D
REFRESH-INTERVAL:P3D
CALSCALE:GREGORIAN
BEGIN:VEVENT
DTSTART:20250320T231500Z
DTEND:20250321T020000Z
X-MICROSOFT-CDO-ALLDAYEVENT:FALSE
SUMMARY:Sundown at Sam's - Free Live Music Series
DESCRIPTION:The grounds at the Sam Houston Memorial Museum & Republic of Texas Presidential Library will come alive three evenings this spring with live music from local artists. The music will get underway at 6:15 p.m. each evening. Performing on Thursday\, March 20 will be Lowery Bridges followed by The Mighty Orq. Chairs and blankets encouraged. Food and drinks will be available for purchase. In case of inclement weather or wet grounds\, the performance will be moved inside to the museum's Katy & E. Don Walker\, Sr. Education Center.
X-ALT-DESC;FMTTYPE=text/html:The grounds at the Sam Houston Memorial Museum &amp\; Republic of Texas Presidential Library will come alive three evenings this spring with live music from local artists. The music will get underway at 6:15 p.m. each evening. Performing on Thursday\, March 20 will be Lowery Bridges followed by The Mighty Orq. Chairs and blankets encouraged. Food and drinks will be available for purchase. In case of inclement weather or wet grounds\, the performance will be moved inside to the museum&#39\;s Katy &amp\; E. Don Walker\, Sr. Education Center.
LOCATION:Stage on the grounds of the Sam Houston Museum
UID:e.1145.18285
SEQUENCE:3
DTSTAMP:20260423T160410Z
URL:https://business.huntsvillewalkerchamber.com/events/details/sundown-at-sam-s-free-live-music-series-03-20-2025-18285
END:VEVENT

END:VCALENDAR
