BEGIN:VCALENDAR
VERSION:2.0
PRODID:-//ChamberMaster//Event Calendar 2.0//EN
METHOD:PUBLISH
X-PUBLISHED-TTL:P3D
REFRESH-INTERVAL:P3D
CALSCALE:GREGORIAN
BEGIN:VEVENT
DTSTART:20240312T150000Z
DTEND:20240315T190000Z
X-MICROSOFT-CDO-ALLDAYEVENT:FALSE
SUMMARY:Spring Break Spotlight Events
DESCRIPTION:The Sam Houston Memorial Museum and Republic of Texas Presidential Library will host events during spring break week for families. All events will take place on the museum grounds and are free. (There is an admission to visit the memorial museum.) TUESDAY   3/12 19TH CENTURY TRANSPORTATION (Tim & Nancy) WEDNESDAY   3/13 COFFEE ROASTING & TASTING @ Eliza's Kitchen THURSDAY   3/14 SOAP MAKING & LAUNDRY @ Eliza's Kitchen FRIDAY   3/15 Candle Dipping @ Eliza's Kitchen
X-ALT-DESC;FMTTYPE=text/html:The Sam Houston Memorial Museum and Republic of Texas Presidential Library will host events during spring break week for families. All events will take place on the museum grounds and are free. (There is an admission to visit the memorial museum.) TUESDAY &ndash\; 3/12 19TH CENTURY TRANSPORTATION (Tim &amp\; Nancy) WEDNESDAY &ndash\; 3/13 COFFEE ROASTING &amp\; TASTING @ Eliza&#39\;s Kitchen THURSDAY &ndash\; 3/14 SOAP MAKING &amp\; LAUNDRY @ Eliza&#39\;s Kitchen FRIDAY &ndash\; 3/15 Candle Dipping @ Eliza&#39\;s Kitchen
LOCATION:Sam Houston Memorial Museum & Republic of Texas Presidential Library\, 1836 Sam Houston Avenue\, Huntsville\, Texas 77340
UID:e.1145.17543
SEQUENCE:3
DTSTAMP:20260419T233832Z
URL:https://business.huntsvillewalkerchamber.com/events/details/spring-break-spotlight-events-03-12-2024-17543
END:VEVENT

END:VCALENDAR
