BEGIN:VCALENDAR
VERSION:2.0
PRODID:-//ChamberMaster//Event Calendar 2.0//EN
METHOD:PUBLISH
X-PUBLISHED-TTL:P3D
REFRESH-INTERVAL:P3D
CALSCALE:GREGORIAN
BEGIN:VEVENT
DTSTART:20240511T000000Z
DTEND:20240511T020000Z
X-MICROSOFT-CDO-ALLDAYEVENT:FALSE
SUMMARY:Southern Raised Bluegrass Band
DESCRIPTION:Southern Raised Bluegrass Band is from the Ozark mountains and has created a trademark where classical meets bluegrass and city streets meet country roads. This unique blend of sibling Harmany is like none other. They sing both gospel and bluegrass and will leave you wanting more. Please join us.
X-ALT-DESC;FMTTYPE=text/html:Southern Raised Bluegrass Band is from the Ozark mountains and has created a trademark where classical meets bluegrass and city streets meet country roads. This unique blend of sibling Harmany is like none other. They sing both gospel and bluegrass and will leave you wanting more. Please join us.
LOCATION:Old Town Theatre Downtown Huntsville 1023 12th street
UID:e.1145.17882
SEQUENCE:3
DTSTAMP:20260422T083617Z
URL:https://business.huntsvillewalkerchamber.com/events/details/southern-raised-bluegrass-band-17882
END:VEVENT

END:VCALENDAR
