BEGIN:VCALENDAR
VERSION:2.0
PRODID:-//ChamberMaster//Event Calendar 2.0//EN
METHOD:PUBLISH
X-PUBLISHED-TTL:P3D
REFRESH-INTERVAL:P3D
CALSCALE:GREGORIAN
BEGIN:VEVENT
DTSTART:20240830T150000Z
DTEND:20240830T160000Z
X-MICROSOFT-CDO-ALLDAYEVENT:FALSE
SUMMARY:Ribbon Cutting Ceremony - Star Express
DESCRIPTION:Join us for the Grand Opening and Ribbon Cutting Ceremony for Star Express!\n\nStar Express is a Gas station with Truck Stop\, Deli Pizza\, Fry chicken\, Taqueria.
X-ALT-DESC;FMTTYPE=text/html:Join us for the Grand Opening and Ribbon Cutting Ceremony for Star Express!<br />\nStar Express is a&nbsp\;Gas station with Truck Stop\, Deli Pizza\, Fry chicken\, Taqueria.
LOCATION:2987 HWY 19 Huntsville
UID:e.1145.18180
SEQUENCE:3
DTSTAMP:20260422T015750Z
URL:https://business.huntsvillewalkerchamber.com/events/details/ribbon-cutting-ceremony-star-express-18180
END:VEVENT

END:VCALENDAR
