BEGIN:VCALENDAR
VERSION:2.0
PRODID:-//ChamberMaster//Event Calendar 2.0//EN
METHOD:PUBLISH
X-PUBLISHED-TTL:P3D
REFRESH-INTERVAL:P3D
CALSCALE:GREGORIAN
BEGIN:VEVENT
DTSTART:20260430T193000Z
DTEND:20260430T203000Z
X-MICROSOFT-CDO-ALLDAYEVENT:FALSE
SUMMARY:Ribbon Cutting Ceremony- Red Bird Creamery
DESCRIPTION:Join us at Red Bird Creamery to celebrate their new location at the Josey Scout Lodge with a ribbon cutting.
X-ALT-DESC;FMTTYPE=text/html:Join us at Red Bird Creamery&nbsp\;to celebrate their new location at the Josey Scout Lodge with a ribbon cutting.&nbsp\;
LOCATION:22nd Street/Sam Houston Avenue Huntsville\, TX 77340
UID:e.1145.20660
SEQUENCE:3
DTSTAMP:20260423T010410Z
URL:https://business.huntsvillewalkerchamber.com/events/details/ribbon-cutting-ceremony-red-bird-creamery-20660
END:VEVENT

END:VCALENDAR
