BEGIN:VCALENDAR
VERSION:2.0
PRODID:-//ChamberMaster//Event Calendar 2.0//EN
METHOD:PUBLISH
X-PUBLISHED-TTL:P3D
REFRESH-INTERVAL:P3D
CALSCALE:GREGORIAN
BEGIN:VEVENT
DTSTART:20240724T143000Z
DTEND:20240724T150000Z
X-MICROSOFT-CDO-ALLDAYEVENT:FALSE
SUMMARY:Ribbon Cutting Ceremony - Luxe Brand
DESCRIPTION:Join the Chamber staff\, board members\, and ambassadors as we celebrate one of our newest members\, Luxe Brand\, with a ribbon-cutting ceremony. Come out\, meet our newest members\, and form valuable connections!\n\n\n\nLight snacks and refreshments will be served.\n\n\n\nThe event is free\, but we kindly ask that you register through our event website to help us maintain accurate attendance records.
X-ALT-DESC;FMTTYPE=text/html:Join the Chamber staff\, board members\, and ambassadors as we celebrate one of our newest members\, Luxe Brand\, with a ribbon-cutting ceremony. Come out\, meet our newest members\, and form valuable connections!<br />\n<br />\nLight snacks and refreshments will be served.<br />\n<br />\nThe event is free\, but we kindly ask that you register through our event website to help us maintain accurate attendance records.
LOCATION:1015 11th Street Huntsville
UID:e.1145.17908
SEQUENCE:3
DTSTAMP:20260422T053529Z
URL:https://business.huntsvillewalkerchamber.com/events/details/ribbon-cutting-ceremony-luxe-brand-17908
END:VEVENT

END:VCALENDAR
