BEGIN:VCALENDAR
VERSION:2.0
PRODID:-//ChamberMaster//Event Calendar 2.0//EN
METHOD:PUBLISH
X-PUBLISHED-TTL:P3D
REFRESH-INTERVAL:P3D
CALSCALE:GREGORIAN
BEGIN:VEVENT
DTSTART:20251114T160000Z
DTEND:20251114T170000Z
X-MICROSOFT-CDO-ALLDAYEVENT:FALSE
SUMMARY:Ribbon Cutting Ceremony- 2020 Sams Convenience & Gas Inc.
DESCRIPTION:Join us at 2020 Sams Convenience & Gas Inc. for a grand opening & ribbon cutting celebration!
X-ALT-DESC;FMTTYPE=text/html:Join us at 2020 Sams Convenience &amp\; Gas Inc. for a grand opening &amp\; ribbon cutting celebration!
LOCATION:2020 Sam Houston Ave Huntsville\, TX 77340
UID:e.1145.20584
SEQUENCE:3
DTSTAMP:20260420T185031Z
URL:https://business.huntsvillewalkerchamber.com/events/details/ribbon-cutting-ceremony-2020-sams-convenience-gas-inc-20584
END:VEVENT

END:VCALENDAR
