BEGIN:VCALENDAR
VERSION:2.0
PRODID:-//ChamberMaster//Event Calendar 2.0//EN
METHOD:PUBLISH
X-PUBLISHED-TTL:P3D
REFRESH-INTERVAL:P3D
CALSCALE:GREGORIAN
BEGIN:VEVENT
DTSTART:20301113T200000Z
DTEND:20301113T210000Z
X-MICROSOFT-CDO-ALLDAYEVENT:FALSE
SUMMARY:POP Committee Meeting
DESCRIPTION:Promoting Our Positives (POP) Committee Meeting
X-ALT-DESC;FMTTYPE=text/html:Promoting Our Positives (POP) Committee Meeting
LOCATION:Chamber Boardroom
UID:e.1145.17688
SEQUENCE:3
DTSTAMP:20260426T011213Z
URL:https://business.huntsvillewalkerchamber.com/events/details/pop-committee-meeting-11-13-2030-17688
END:VEVENT

END:VCALENDAR
