BEGIN:VCALENDAR
VERSION:2.0
PRODID:-//ChamberMaster//Event Calendar 2.0//EN
METHOD:PUBLISH
X-PUBLISHED-TTL:P3D
REFRESH-INTERVAL:P3D
CALSCALE:GREGORIAN
BEGIN:VEVENT
DTSTART:20240323T150000Z
DTEND:20240323T190000Z
X-MICROSOFT-CDO-ALLDAYEVENT:FALSE
SUMMARY:Pitch Hit & Run
DESCRIPTION:Pitch Hit & Run is the official skills competition of Major League Baseball. This grassroots program is designed to provide youngsters with an opportunity to compete\, FREE of charge\, in a competition that recognizes individual excellence in core baseball/softball skills. Boys and girls are divided into four age divisions: 7/8\, 9/10\, 11/12\, and 13/14\, and have the chance to advance through three levels of competition\, including Team Championships and the Finals during MLB All-Star Week. All participants should register online at https://pitchhitrun2024.leagueapps.com/.../4132608-city... and plan to bring age verification (copy/picture of birth certificate or similar) to the competition. For questions concerning the competition\, contact Kristy Wheeler at 936.294.5721 or kwheeler@huntsvilletx.gov
X-ALT-DESC;FMTTYPE=text/html:Pitch Hit &amp\; Run is the official skills competition of Major League Baseball. This grassroots program is designed to provide youngsters with an opportunity to compete\, FREE of charge\, in a competition that recognizes individual excellence in core baseball/softball skills. Boys and girls are divided into four age divisions: 7/8\, 9/10\, 11/12\, and 13/14\, and have the chance to advance through three levels of competition\, including Team Championships and the Finals during MLB All-Star Week. All participants should register online at https://pitchhitrun2024.leagueapps.com/.../4132608-city... and plan to bring age verification (copy/picture of birth certificate or similar) to the competition. For questions concerning the competition\, contact Kristy Wheeler at 936.294.5721 or kwheeler@huntsvilletx.gov
LOCATION:Huntsville Baseball Complex 486 State Hwy 75 North Huntsville\, TX 77340
UID:e.1145.17552
SEQUENCE:3
DTSTAMP:20260422T114110Z
URL:https://business.huntsvillewalkerchamber.com/events/details/pitch-hit-run-17552
END:VEVENT

END:VCALENDAR
