BEGIN:VCALENDAR
VERSION:2.0
PRODID:-//ChamberMaster//Event Calendar 2.0//EN
METHOD:PUBLISH
X-PUBLISHED-TTL:P3D
REFRESH-INTERVAL:P3D
CALSCALE:GREGORIAN
BEGIN:VEVENT
DTSTART;VALUE=DATE:20090324
DTEND;VALUE=DATE:20090325
TRANSP:TRANSPARENT
X-MICROSOFT-CDO-ALLDAYEVENT:TRUE
SUMMARY:Personal Safety Seminar w/Richard Bloom
DESCRIPTION:
X-ALT-DESC;FMTTYPE=text/html:
LOCATION:
UID:e.1145.414
SEQUENCE:3
DTSTAMP:20260420T130844Z
URL:https://business.huntsvillewalkerchamber.com/events/details/personal-safety-seminar-w-richard-bloom-03-24-2009-414
END:VEVENT

END:VCALENDAR
