BEGIN:VCALENDAR
VERSION:2.0
PRODID:-//ChamberMaster//Event Calendar 2.0//EN
METHOD:PUBLISH
X-PUBLISHED-TTL:P3D
REFRESH-INTERVAL:P3D
CALSCALE:GREGORIAN
BEGIN:VEVENT
DTSTART:20240910T230000Z
DTEND:20240911T003000Z
X-MICROSOFT-CDO-ALLDAYEVENT:FALSE
SUMMARY:Parks & Recreation Master Plan Workshop
DESCRIPTION:Come Participate in our Parks Planning Workshop for the Parks and Recreation Master Plan. When: Tuesday\, September 10th from 6:00 PM - 7:30 PM Where: Marting Luther King\, Jr. Community Center\, 300 Marting Luther King Drive\, Huntsville\, TX 77340.
X-ALT-DESC;FMTTYPE=text/html:Come Participate in our Parks Planning Workshop for the Parks and Recreation Master Plan. When: Tuesday\, September 10th from 6:00 PM - 7:30 PM Where: Marting Luther King\, Jr. Community Center\, 300 Marting Luther King Drive\, Huntsville\, TX 77340.
LOCATION:Martin Luther King\, Jr. Community Center\, 300 MLK Drive\, Huntsville\, TX 77340
UID:e.1145.18193
SEQUENCE:3
DTSTAMP:20260422T015325Z
URL:https://business.huntsvillewalkerchamber.com/events/details/parks-recreation-master-plan-workshop-18193
END:VEVENT

END:VCALENDAR
