BEGIN:VCALENDAR
VERSION:2.0
PRODID:-//ChamberMaster//Event Calendar 2.0//EN
METHOD:PUBLISH
X-PUBLISHED-TTL:P3D
REFRESH-INTERVAL:P3D
CALSCALE:GREGORIAN
BEGIN:VEVENT
DTSTART:20240828T223000Z
DTEND:20240828T233000Z
X-MICROSOFT-CDO-ALLDAYEVENT:FALSE
SUMMARY:Open Mic Night- Poetry and Spoken Word
DESCRIPTION:Whether you are a seasoned poet\, a first time presenter\, or just a lover of literature\, please join us for a night of community support of the arts! This free event is open to ages 16+ to recite or listen to the diversity of the voices in our community. We encourage writers of all experience levels and backgrounds to attend and share your art\, all genres and styles are welcome. Poems\, songs\, short stories\, and pre-published works of literature are all allowed. Performance slots are first come\, first served\, on a volunteer basis. Suggested reading length is 3-5 minutes per performer. Join us the last Wednesday of every month from 5:30 p.m. to 6:30 p.m.
X-ALT-DESC;FMTTYPE=text/html:Whether you are a seasoned poet\, a first time presenter\, or just a lover of literature\, please join us for a night of community support of the arts! This free event is open to ages 16+ to recite or listen to the diversity of the voices in our community. We encourage writers of all experience levels and backgrounds to attend and share your art\, all genres and styles are welcome. Poems\, songs\, short stories\, and pre-published works of literature are all allowed. Performance slots are first come\, first served\, on a volunteer basis. Suggested reading length is 3-5 minutes per performer. Join us the last Wednesday of every month from 5:30 p.m. to 6:30 p.m.
LOCATION:Huntsville Public Library 1219 13th Street Huntsville\, TX 77340
UID:e.1145.18186
SEQUENCE:3
DTSTAMP:20260422T065819Z
URL:https://business.huntsvillewalkerchamber.com/events/details/open-mic-night-poetry-and-spoken-word-18186
END:VEVENT

END:VCALENDAR
