BEGIN:VCALENDAR
VERSION:2.0
PRODID:-//ChamberMaster//Event Calendar 2.0//EN
METHOD:PUBLISH
X-PUBLISHED-TTL:P3D
REFRESH-INTERVAL:P3D
CALSCALE:GREGORIAN
BEGIN:VEVENT
DTSTART:20250306T170000Z
DTEND:20250306T190000Z
X-MICROSOFT-CDO-ALLDAYEVENT:FALSE
SUMMARY:Newcomers Luncheon
DESCRIPTION:Tiffany Moyer\, owner of the Re'Nue Wellness Bar\, will be the guest speaker at the March 6\, 2025\, Huntsville Area Newcomers (for a Lifetime) Club meeting. Ms. Moyer will speak about the different treatments\, products and services used to promote women's wellness and vitality. The luncheon meeting starts at 11:30am on Thursday\, March 6\, 2025\, at the Elkins Lake Club House\, 632 Cherry Hills Drive\, Huntsville\, Texas. The community is invited to attend\, and reservations are required. Call 281-253-1133 for more information or to make a reservation. The reservation deadline is Friday February 28\, 2025\, and the cost is $16.00 per person.
X-ALT-DESC;FMTTYPE=text/html:Tiffany Moyer\, owner of the Re&rsquo\;Nue Wellness Bar\, will be the guest speaker at the March 6\, 2025\, Huntsville Area Newcomers (for a Lifetime) Club meeting. Ms. Moyer will speak about the different treatments\, products and services used to promote women&rsquo\;s wellness and vitality. The luncheon meeting starts at 11:30am on Thursday\, March 6\, 2025\, at the Elkins Lake Club House\, 632 Cherry Hills Drive\, Huntsville\, Texas. The community is invited to attend\, and reservations are required. Call 281-253-1133 for more information or to make a reservation. The reservation deadline is Friday February 28\, 2025\, and the cost is $16.00 per person.
LOCATION:Elkins Lake Clubhouse 632 Cherry Hills Drive Huntsville\, Texas 77340
UID:e.1145.18304
SEQUENCE:3
DTSTAMP:20260423T144247Z
URL:https://business.huntsvillewalkerchamber.com/events/details/newcomers-luncheon-03-06-2025-18304
END:VEVENT

END:VCALENDAR
