BEGIN:VCALENDAR
VERSION:2.0
PRODID:-//ChamberMaster//Event Calendar 2.0//EN
METHOD:PUBLISH
X-PUBLISHED-TTL:P3D
REFRESH-INTERVAL:P3D
CALSCALE:GREGORIAN
BEGIN:VEVENT
DTSTART:20240809T193000Z
DTEND:20240809T203000Z
X-MICROSOFT-CDO-ALLDAYEVENT:FALSE
SUMMARY:Networking Event @ Creekside
DESCRIPTION:We are better together! The senior service industry is like none other\, driven by compassion with an immovable dedication to deliver the very best to those we serve. We believe Huntsville should be one of the best places in America to grow old. To get there\, experts on aging must work together to appropriately resource elders with all this area has to offer. Let's chat about how\, together\, we can elevate aging in Huntsville
X-ALT-DESC;FMTTYPE=text/html:We are better together! The senior service industry is like none other\, driven by compassion with an immovable dedication to deliver the very best to those we serve. We believe Huntsville should be one of the best places in America to grow old. To get there\, experts on aging must work together to appropriately resource elders with all this area has to offer. Let&rsquo\;s chat about how\, together\, we can elevate aging in Huntsville
LOCATION:1433 Veterans Memorial Parkway\, Huntsville Texas Chapel
UID:e.1145.18176
SEQUENCE:3
DTSTAMP:20260420T083147Z
URL:https://business.huntsvillewalkerchamber.com/events/details/networking-event-creekside-18176
END:VEVENT

END:VCALENDAR
