BEGIN:VCALENDAR
VERSION:2.0
PRODID:-//ChamberMaster//Event Calendar 2.0//EN
METHOD:PUBLISH
X-PUBLISHED-TTL:P3D
REFRESH-INTERVAL:P3D
CALSCALE:GREGORIAN
BEGIN:VEVENT
DTSTART:20240131T143000Z
DTEND:20240131T153000Z
X-MICROSOFT-CDO-ALLDAYEVENT:FALSE
SUMMARY:Member Orientation
DESCRIPTION:Learn more about your chamber membership and the benefits available for you! \n\nPlease join us for this complimentary\, brief orientation session  to learn how to get involved with the Chamber and to get connected with all the activities\, events\, and services the Huntsville Walker County Chamber of Commerce offers.\n\n\nBring your laptop!\n\n \n\nCall 936-295-8113 to RSVP click on the register now button above.
X-ALT-DESC;FMTTYPE=text/html:<p><span style="color: rgb(64\, 63\, 66)\; font-family: Arial\, Verdana\, Helvetica\, sans-serif\; text-align: center\; white-space: pre-wrap\; font-size: 19px\;">Learn more about your chamber membership and the benefits available for you!</span><span style="font-family: Arial\, Verdana\, Helvetica\, sans-serif\; text-align: center\; white-space: pre-wrap\; font-size: 19px\; color: rgb(31\, 73\, 125)\;">&nbsp\;</span></p>\n\n<p><span style="font-size: 19px\; color: rgb(64\, 63\, 66)\; font-family: Arial\, Verdana\, Helvetica\, sans-serif\; text-align: center\; white-space: pre-wrap\;">Please join us for this complimentary\, brief orientation session&nbsp\;&nbsp\;to learn how to get involved with the Chamber and to get connected with all the activities\, events\, and services the&nbsp\;Huntsville Walker County Chamber of Commerce offers.</span></p>\n\n<div>\n<div style="color: rgb(64\, 63\, 66)\; font-family: Arial\, Verdana\, Helvetica\, sans-serif\; font-size: 12px\; white-space: pre-wrap\; background-color: rgb(255\, 255\, 255)\; text-align: center\;"><span style="font-size: 19px\;">Bring your laptop!</span><br />\n&nbsp\;</div>\n\n<div style="color: rgb(64\, 63\, 66)\; font-family: Arial\, Verdana\, Helvetica\, sans-serif\; font-size: 12px\; white-space: pre-wrap\; background-color: rgb(255\, 255\, 255)\; text-align: center\;"><span style="font-size: 19px\;">Call 936-295-8113 to RSVP click on the register now button above.</span></div>\n</div>\n
LOCATION:Chamber Conference Room 1327 11th Street Huntsville\, Texas 77340
UID:e.1145.17502
SEQUENCE:3
DTSTAMP:20260423T084053Z
URL:https://business.huntsvillewalkerchamber.com/events/details/member-orientation-17502
END:VEVENT

END:VCALENDAR
