BEGIN:VCALENDAR
VERSION:2.0
PRODID:-//ChamberMaster//Event Calendar 2.0//EN
METHOD:PUBLISH
X-PUBLISHED-TTL:P3D
REFRESH-INTERVAL:P3D
CALSCALE:GREGORIAN
BEGIN:VEVENT
DTSTART;VALUE=DATE:20090528
DTEND;VALUE=DATE:20090529
TRANSP:TRANSPARENT
X-MICROSOFT-CDO-ALLDAYEVENT:TRUE
SUMMARY:May BAH 2009
DESCRIPTION:
X-ALT-DESC;FMTTYPE=text/html:
LOCATION:
UID:e.1145.374
SEQUENCE:3
DTSTAMP:20260420T101641Z
URL:https://business.huntsvillewalkerchamber.com/events/details/may-bah-2009-05-28-2009-374
END:VEVENT

END:VCALENDAR
