BEGIN:VCALENDAR
VERSION:2.0
PRODID:-//ChamberMaster//Event Calendar 2.0//EN
METHOD:PUBLISH
X-PUBLISHED-TTL:P3D
REFRESH-INTERVAL:P3D
CALSCALE:GREGORIAN
BEGIN:VEVENT
DTSTART;VALUE=DATE:20090312
DTEND;VALUE=DATE:20090313
TRANSP:TRANSPARENT
X-MICROSOFT-CDO-ALLDAYEVENT:TRUE
SUMMARY:March SBB 09
DESCRIPTION:
X-ALT-DESC;FMTTYPE=text/html:
LOCATION:
UID:e.1145.384
SEQUENCE:3
DTSTAMP:20260420T130526Z
URL:https://business.huntsvillewalkerchamber.com/events/details/march-sbb-09-03-12-2009-384
END:VEVENT

END:VCALENDAR
