BEGIN:VCALENDAR
VERSION:2.0
PRODID:-//ChamberMaster//Event Calendar 2.0//EN
METHOD:PUBLISH
X-PUBLISHED-TTL:P3D
REFRESH-INTERVAL:P3D
CALSCALE:GREGORIAN
BEGIN:VEVENT
DTSTART;VALUE=DATE:20090326
DTEND;VALUE=DATE:20090327
TRANSP:TRANSPARENT
X-MICROSOFT-CDO-ALLDAYEVENT:TRUE
SUMMARY:March BAH 2009
DESCRIPTION:
X-ALT-DESC;FMTTYPE=text/html:
LOCATION:
UID:e.1145.372
SEQUENCE:3
DTSTAMP:20260420T130621Z
URL:https://business.huntsvillewalkerchamber.com/events/details/march-bah-2009-03-26-2009-372
END:VEVENT

END:VCALENDAR
