BEGIN:VCALENDAR
VERSION:2.0
PRODID:-//ChamberMaster//Event Calendar 2.0//EN
METHOD:PUBLISH
X-PUBLISHED-TTL:P3D
REFRESH-INTERVAL:P3D
CALSCALE:GREGORIAN
BEGIN:VEVENT
DTSTART;VALUE=DATE:20090602
DTEND;VALUE=DATE:20090603
TRANSP:TRANSPARENT
X-MICROSOFT-CDO-ALLDAYEVENT:TRUE
SUMMARY:Luncheon with Dr. Gaertner- June 2\, 2009
DESCRIPTION:
X-ALT-DESC;FMTTYPE=text/html:
LOCATION:
UID:e.1145.416
SEQUENCE:3
DTSTAMP:20260420T091437Z
URL:https://business.huntsvillewalkerchamber.com/events/details/luncheon-with-dr-gaertner-june-2-2009-06-02-2009-416
END:VEVENT

END:VCALENDAR
