BEGIN:VCALENDAR
VERSION:2.0
PRODID:-//ChamberMaster//Event Calendar 2.0//EN
METHOD:PUBLISH
X-PUBLISHED-TTL:P3D
REFRESH-INTERVAL:P3D
CALSCALE:GREGORIAN
BEGIN:VEVENT
DTSTART:20241002T150000Z
DTEND:20241002T163000Z
X-MICROSOFT-CDO-ALLDAYEVENT:FALSE
SUMMARY:Government Affairs Committee Meeting
DESCRIPTION:Are you interested in aiding in finding solutions to community issues?  Then this is the meeting for you.  Please join us and share thoughts\, experiences\, etc. so that we are informed about the community concerns.
X-ALT-DESC;FMTTYPE=text/html:<p><br />\n<br />\nAre you interested in aiding in finding solutions to community issues?&nbsp\; Then this is the meeting for you.&nbsp\; Please join us and share thoughts\, experiences\, etc. so that we are informed about the community concerns.</p>\n
LOCATION:Chamber Boardroom 1327 11th Street
UID:e.1145.17745
SEQUENCE:3
DTSTAMP:20260423T025710Z
URL:https://business.huntsvillewalkerchamber.com/events/details/legislative-affairs-committee-meeting-10-02-2024-17745
END:VEVENT

END:VCALENDAR
