BEGIN:VCALENDAR
VERSION:2.0
PRODID:-//ChamberMaster//Event Calendar 2.0//EN
METHOD:PUBLISH
X-PUBLISHED-TTL:P3D
REFRESH-INTERVAL:P3D
CALSCALE:GREGORIAN
BEGIN:VEVENT
DTSTART:20260603T150000Z
DTEND:20260603T160000Z
X-MICROSOFT-CDO-ALLDAYEVENT:FALSE
SUMMARY:Business Advocacy Meeting
DESCRIPTION:Are you interested in aiding in finding solutions to community issues?  Then this is the meeting for you.  Please join us and share thoughts\, experiences\, etc. so that we are informed about the community concerns.
X-ALT-DESC;FMTTYPE=text/html:<p>Are you interested in aiding in finding solutions to community issues?&nbsp\; Then this is the meeting for you.&nbsp\; Please join us and share thoughts\, experiences\, etc. so that we are informed about the community concerns.</p>\n
LOCATION:Chamber Boardroom
UID:e.1145.17765
SEQUENCE:3
DTSTAMP:20260420T140859Z
URL:https://business.huntsvillewalkerchamber.com/events/details/legislative-affairs-committee-meeting-06-03-2026-17765
END:VEVENT

END:VCALENDAR
