BEGIN:VCALENDAR
VERSION:2.0
PRODID:-//ChamberMaster//Event Calendar 2.0//EN
METHOD:PUBLISH
X-PUBLISHED-TTL:P3D
REFRESH-INTERVAL:P3D
CALSCALE:GREGORIAN
BEGIN:VEVENT
DTSTART:20241103T000000Z
DTEND:20241103T020000Z
X-MICROSOFT-CDO-ALLDAYEVENT:FALSE
SUMMARY:Karen Morgan Comedian with guest Andy Huggins
DESCRIPTION:Comedian Karen Morgan and special guest comedian Andy Huggins will have the downtown rolling in laughter. Join us for a belly laugh good time.
X-ALT-DESC;FMTTYPE=text/html:Comedian Karen Morgan and special guest comedian Andy Huggins will have the downtown rolling in laughter. Join us for a belly laugh good time.
LOCATION:Old Town Theatre 1023 12th Street Huntsville\, Texas 77340
UID:e.1145.18212
SEQUENCE:3
DTSTAMP:20260422T011545Z
URL:https://business.huntsvillewalkerchamber.com/events/details/karen-morgan-comedian-with-guest-andy-huggins-18212
END:VEVENT

END:VCALENDAR
