BEGIN:VCALENDAR
VERSION:2.0
PRODID:-//ChamberMaster//Event Calendar 2.0//EN
METHOD:PUBLISH
X-PUBLISHED-TTL:P3D
REFRESH-INTERVAL:P3D
CALSCALE:GREGORIAN
BEGIN:VEVENT
DTSTART:20240824T000000Z
DTEND:20240824T030000Z
X-MICROSOFT-CDO-ALLDAYEVENT:FALSE
SUMMARY:Karaoke Membership Drive
DESCRIPTION:The American Legion Sam Houston Post 95 is hosting a Karaoke Membership Drive! Walker County veterans and veterans' family members are invited\, as they may be eligible to join! Join us Friday night to learn more! Come sing with us at our award-winning post!
X-ALT-DESC;FMTTYPE=text/html:The American Legion Sam Houston Post 95 is hosting a Karaoke Membership Drive! Walker County veterans and veterans&#39\; family members are invited\, as they may be eligible to join! Join us Friday night to learn more! Come sing with us at our award-winning post!
LOCATION:1919 American Legion Drive Huntsville Texas 77320
UID:e.1145.18194
SEQUENCE:3
DTSTAMP:20260422T033751Z
URL:https://business.huntsvillewalkerchamber.com/events/details/karaoke-membership-drive-18194
END:VEVENT

END:VCALENDAR
