BEGIN:VCALENDAR
VERSION:2.0
PRODID:-//ChamberMaster//Event Calendar 2.0//EN
METHOD:PUBLISH
X-PUBLISHED-TTL:P3D
REFRESH-INTERVAL:P3D
CALSCALE:GREGORIAN
BEGIN:VEVENT
DTSTART:20240323T150000Z
DTEND:20240323T230000Z
X-MICROSOFT-CDO-ALLDAYEVENT:FALSE
SUMMARY:Kappa Alpha Cook Out
DESCRIPTION:Join the SHSU Kappa Alpha fraternity in kicking off Founder's Day with live music and BBQ! Saturday March 23 from 10am to 6pm\, listen to guest speaker Charlie Melton\, a Navy seal\, enjoy music by Canaan Bryce\, take a chance at a raffle and eat some great BBQ\, featuring chicken\, brisket\, sausage and boudin! Cost per plate ranges from $17 to $27 and 50% of the event proceeds will help provide wheelchairs for veterans who have lost their legs in combat\, through the Operation K.A.R.E. organization.
X-ALT-DESC;FMTTYPE=text/html:Join the SHSU Kappa Alpha fraternity in kicking off Founder&#39\;s Day with live music and BBQ! Saturday March 23 from 10am to 6pm\, listen to guest speaker Charlie Melton\, a Navy seal\, enjoy music by Canaan Bryce\, take a chance at a raffle and eat some great BBQ\, featuring chicken\, brisket\, sausage and boudin! Cost per plate ranges from $17 to $27 and 50% of the event proceeds will help provide wheelchairs for veterans who have lost their legs in combat\, through the Operation K.A.R.E. organization.&nbsp\;
LOCATION:Kappa Alpha House 905 15th Street Huntsville TX 77340
UID:e.1145.17600
SEQUENCE:3
DTSTAMP:20260422T114349Z
URL:https://business.huntsvillewalkerchamber.com/events/details/kappa-alpha-cook-out-17600
END:VEVENT

END:VCALENDAR
