BEGIN:VCALENDAR
VERSION:2.0
PRODID:-//ChamberMaster//Event Calendar 2.0//EN
METHOD:PUBLISH
X-PUBLISHED-TTL:P3D
REFRESH-INTERVAL:P3D
CALSCALE:GREGORIAN
BEGIN:VEVENT
DTSTART:20241004T230000Z
DTEND:20241005T000000Z
X-MICROSOFT-CDO-ALLDAYEVENT:FALSE
SUMMARY:Huntsville Blessing of the Pets
DESCRIPTION:Several local clergy will be doing a brief ceremony for St. Francis Day followed by a blessing with water or oil for each pet and owner. Certificates will be issued. Treats offered by PetCo and Rita B. Huff Humane Society of Walker County.
X-ALT-DESC;FMTTYPE=text/html:Several local clergy will be doing a brief ceremony for St. Francis Day followed by a blessing with water or oil for each pet and owner. Certificates will be issued. Treats offered by PetCo and Rita B. Huff Humane Society of Walker County.
LOCATION:Front yard (Pumpkin Patch) at First United Methodist Church 1016 Sam Houston Ave.
UID:e.1145.18206
SEQUENCE:3
DTSTAMP:20260422T025719Z
URL:https://business.huntsvillewalkerchamber.com/events/details/huntsville-blessing-of-the-pets-18206
END:VEVENT

END:VCALENDAR
