BEGIN:VCALENDAR
VERSION:2.0
PRODID:-//ChamberMaster//Event Calendar 2.0//EN
METHOD:PUBLISH
X-PUBLISHED-TTL:P3D
REFRESH-INTERVAL:P3D
CALSCALE:GREGORIAN
BEGIN:VEVENT
DTSTART:20240905T163000Z
DTEND:20240905T180000Z
X-MICROSOFT-CDO-ALLDAYEVENT:FALSE
SUMMARY:Huntsville Area Newcomers 'for a lifetime' Club
DESCRIPTION:The Huntsville Area Newcomers (for a Lifetime) Club kicks off their 40th Year Anniversary on Thursday September 5\, 2024. Russell Humphrey\, Mayor of Huntsville\, will be the program speaker and will talk about "All Things Huntsville". The luncheon begins at 11:30a.m. and will be held at the Elkins Lake Club House\, located at 632 Cherry Hills Drive\, Huntsville\, Texas The community is invited to attend\, and reservations are required. Contact Regina Douglas at 281- 253-1133 for more information or to make a reservation. The reservation deadline is August 30\, and the cost is $16.00 per person.
X-ALT-DESC;FMTTYPE=text/html:The Huntsville Area Newcomers (for a Lifetime) Club kicks off their 40th Year Anniversary on Thursday September 5\, 2024. Russell Humphrey\, Mayor of Huntsville\, will be the program speaker and will talk about &ldquo\;All Things Huntsville&rdquo\;. The luncheon begins at 11:30a.m. and will be held at the Elkins Lake Club House\, located at 632 Cherry Hills Drive\, Huntsville\, Texas The community is invited to attend\, and reservations are required. Contact Regina Douglas at 281- 253-1133 for more information or to make a reservation. The reservation deadline is August 30\, and the cost is $16.00 per person.
LOCATION:Elkins Lake Clubhouse 632 Cherry Hills Dr. Huntsville\, Texas 77340
UID:e.1145.18183
SEQUENCE:3
DTSTAMP:20260422T034922Z
URL:https://business.huntsvillewalkerchamber.com/events/details/huntsville-area-newcomers-for-a-lifetime-club-18183
END:VEVENT

END:VCALENDAR
