BEGIN:VCALENDAR
VERSION:2.0
PRODID:-//ChamberMaster//Event Calendar 2.0//EN
METHOD:PUBLISH
X-PUBLISHED-TTL:P3D
REFRESH-INTERVAL:P3D
CALSCALE:GREGORIAN
BEGIN:VEVENT
DTSTART:20241003T163000Z
DTEND:20241003T180000Z
X-MICROSOFT-CDO-ALLDAYEVENT:FALSE
SUMMARY:Huntsville Area Newcomers (for a lifetime) Club
DESCRIPTION:The Huntsville Area Newcomers (for a Lifetime) Club will present its Fall Fashion meeting\, featuring clothes from Chicos of The Woodlands on Thursday October 3\, 2024. Chicos will bring their latest fall fashions and Newcomers club members will serve as models. The luncheon begins at 11:30 am\, at the Elkins Lake Club House\, located at 632 Cherry Hills Drive\, Huntsville\, Texas. The community is invited to this very popular event and reservations are required. Call 281-253-1133 for more information or to make a reservation. The reservation deadline is Friday September 27\, 2024\, and the cost is $16.00 per person. Newcomers also supports a Huntsville Independent School District (HISD) initiative\, which helps students facing housing challenges and insecurities. Members and guests can support this project by bringing hygiene products (full size) of the following: Toothbrushes and toothpaste\, deodorant\, bath soap\, shampoo and conditioner\, toilet paper and laundry detergent. Gifts cards in small denominations ($5 and $10) to Dollar Tree and Dollar General are also appreciated. Bring donations and gift cards to the luncheon and we will make sure they are delivered to the HISD counselors.
X-ALT-DESC;FMTTYPE=text/html:The Huntsville Area Newcomers (for a Lifetime) Club will present its Fall Fashion meeting\, featuring clothes from Chicos of The Woodlands on Thursday October 3\, 2024. Chicos will bring their latest fall fashions and Newcomers club members will serve as models. The luncheon begins at 11:30 am\, at the Elkins Lake Club House\, located at 632 Cherry Hills Drive\, Huntsville\, Texas. The community is invited to this very popular event and reservations are required. Call 281-253-1133 for more information or to make a reservation. The reservation deadline is Friday September 27\, 2024\, and the cost is $16.00 per person. Newcomers also supports a Huntsville Independent School District (HISD) initiative\, which helps students facing housing challenges and insecurities. Members and guests can support this project by bringing hygiene products (full size) of the following: Toothbrushes and toothpaste\, deodorant\, bath soap\, shampoo and conditioner\, toilet paper and laundry detergent. Gifts cards in small denominations ($5 and $10) to Dollar Tree and Dollar General are also appreciated. Bring donations and gift cards to the luncheon and we will make sure they are delivered to the HISD counselors.
LOCATION:Elkins Lake Club House 632 Cherry Hills Dr.\, Huntsville\, Texas 77340
UID:e.1145.18203
SEQUENCE:3
DTSTAMP:20260422T000634Z
URL:https://business.huntsvillewalkerchamber.com/events/details/huntsville-area-newcomers-for-a-lifetime-club-10-03-2024-18203
END:VEVENT

END:VCALENDAR
