BEGIN:VCALENDAR
VERSION:2.0
PRODID:-//ChamberMaster//Event Calendar 2.0//EN
METHOD:PUBLISH
X-PUBLISHED-TTL:P3D
REFRESH-INTERVAL:P3D
CALSCALE:GREGORIAN
BEGIN:VEVENT
DTSTART:20240910T170000Z
DTEND:20240910T180000Z
X-MICROSOFT-CDO-ALLDAYEVENT:FALSE
SUMMARY:High Noon Music
DESCRIPTION:SHSU students and other local musicians share their talents. The event is free\, however\, an offering is received that goes directly to the musician. Feel free to bring a brown bag lunch.
X-ALT-DESC;FMTTYPE=text/html:SHSU students and other local musicians share their talents. The event is free\, however\, an offering is received that goes directly to the musician. Feel free to bring a brown bag lunch.
LOCATION:First Presbyterian Church - Please enter through sanctuary doors
UID:e.1145.18036
SEQUENCE:3
DTSTAMP:20260422T015814Z
URL:https://business.huntsvillewalkerchamber.com/events/details/high-noon-music-09-10-2024-18036
END:VEVENT

END:VCALENDAR
