BEGIN:VCALENDAR
VERSION:2.0
PRODID:-//ChamberMaster//Event Calendar 2.0//EN
METHOD:PUBLISH
X-PUBLISHED-TTL:P3D
REFRESH-INTERVAL:P3D
CALSCALE:GREGORIAN
BEGIN:VEVENT
DTSTART:20240501T133000Z
DTEND:20240501T160000Z
X-MICROSOFT-CDO-ALLDAYEVENT:FALSE
SUMMARY:HHS Student Job Fair
DESCRIPTION:HHS CTE is hosting its first Student Job Fair on May 1st. We are looking for businesses and organizations who will be hiring for full/part-time\, seasonal employment\, or internships/apprenticeships for our outgoing Junior and graduating Senior students. Our goal is to help fill local jobs with local students. Please use the link to sign up: https://forms.gle/oYZp2Bcs5csSSkSo8
X-ALT-DESC;FMTTYPE=text/html:HHS CTE is hosting its first Student Job Fair on May 1st. We are looking for businesses and organizations who will be hiring for full/part-time\, seasonal employment\, or internships/apprenticeships for our outgoing Junior and graduating Senior students. Our goal is to help fill local jobs with local students. Please use the link to sign up: https://forms.gle/oYZp2Bcs5csSSkSo8
LOCATION:Huntsville High School Small gym
UID:e.1145.17608
SEQUENCE:3
DTSTAMP:20260422T053449Z
URL:https://business.huntsvillewalkerchamber.com/events/details/hhs-student-job-fair-17608
END:VEVENT

END:VCALENDAR
