BEGIN:VCALENDAR
VERSION:2.0
PRODID:-//ChamberMaster//Event Calendar 2.0//EN
METHOD:PUBLISH
X-PUBLISHED-TTL:P3D
REFRESH-INTERVAL:P3D
CALSCALE:GREGORIAN
BEGIN:VEVENT
DTSTART:20240427T150000Z
DTEND:20240427T220000Z
X-MICROSOFT-CDO-ALLDAYEVENT:FALSE
SUMMARY:General Sam Houston Day
DESCRIPTION:Step back in time for an event honoring Sam Houston and his times (1793-1863). Enjoy historical demonstrations\, hands-on activities\, and period music. Tour the homes the Houstons lived in\, gain access into the Steamboat House and the 19th century period cabins on the property. The events on the grounds and admission into the museum are FREE!
X-ALT-DESC;FMTTYPE=text/html:Step back in time for an event honoring Sam Houston and his times (1793-1863). Enjoy historical demonstrations\, hands-on activities\, and period music. Tour the homes the Houstons lived in\, gain access into the Steamboat House and the 19th century period cabins on the property. The events on the grounds and admission into the museum are FREE!
LOCATION:Sam Houston Memorial Museum & Republic of Texas Presidential Library\, 1836 Sam Houston Avenue\, Huntsville\, Texas 77340
UID:e.1145.17542
SEQUENCE:3
DTSTAMP:20260422T114259Z
URL:https://business.huntsvillewalkerchamber.com/events/details/general-sam-houston-day-04-27-2024-17542
END:VEVENT

END:VCALENDAR
