BEGIN:VCALENDAR
VERSION:2.0
PRODID:-//ChamberMaster//Event Calendar 2.0//EN
METHOD:PUBLISH
X-PUBLISHED-TTL:P3D
REFRESH-INTERVAL:P3D
CALSCALE:GREGORIAN
BEGIN:VEVENT
DTSTART:20230505T233000Z
DTEND:20230506T020000Z
X-MICROSOFT-CDO-ALLDAYEVENT:FALSE
SUMMARY:Francine’s Country Pavilion - Soft Opening
DESCRIPTION:Come join us for our soft opening of Francine's Country Pavilion! We'll have some live music\, featuring Dylan Ault\, a nacho bar\, and drinks available! Come out and help us kick off this new venue that will feature live music events and be available for weddings\, conferences\, reunions\, and any other rentals you can imagine!
X-ALT-DESC;FMTTYPE=text/html:Come join us for our soft opening of Francine&rsquo\;s Country Pavilion! We&rsquo\;ll have some live music\, featuring Dylan Ault\, a nacho bar\, and drinks available! Come out and help us kick off this new venue that will feature live music events and be available for weddings\, conferences\, reunions\, and any other rentals you can imagine!
LOCATION:21155 CR 124\, Iola TX 77861
UID:e.1145.17136
SEQUENCE:3
DTSTAMP:20260425T002643Z
URL:https://business.huntsvillewalkerchamber.com/events/details/francine-s-country-pavilion-soft-opening-17136
END:VEVENT

END:VCALENDAR
