BEGIN:VCALENDAR
VERSION:2.0
PRODID:-//ChamberMaster//Event Calendar 2.0//EN
METHOD:PUBLISH
X-PUBLISHED-TTL:P3D
REFRESH-INTERVAL:P3D
CALSCALE:GREGORIAN
BEGIN:VEVENT
DTSTART;VALUE=DATE:20090226
DTEND;VALUE=DATE:20090227
TRANSP:TRANSPARENT
X-MICROSOFT-CDO-ALLDAYEVENT:TRUE
SUMMARY:February BAH 2009
DESCRIPTION:
X-ALT-DESC;FMTTYPE=text/html:
LOCATION:
UID:e.1145.371
SEQUENCE:3
DTSTAMP:20260420T113221Z
URL:https://business.huntsvillewalkerchamber.com/events/details/february-bah-2009-02-26-2009-371
END:VEVENT

END:VCALENDAR
