BEGIN:VCALENDAR
VERSION:2.0
PRODID:-//ChamberMaster//Event Calendar 2.0//EN
METHOD:PUBLISH
X-PUBLISHED-TTL:P3D
REFRESH-INTERVAL:P3D
CALSCALE:GREGORIAN
BEGIN:VEVENT
DTSTART:20240305T220000Z
DTEND:20240305T230000Z
X-MICROSOFT-CDO-ALLDAYEVENT:FALSE
SUMMARY:Expansion Ribbon Cutting - TPMS
DESCRIPTION:Join us as we celebrate the expansion of Tomorrow's Promise Montessori Academy.\n\n\n\nMontessori is the only educational method developed by a Dr. using the scientific method for what was best for the child.  Come see why Tomorrow's Promise is recognized as one of the top rated child care facilities in Walker County!
X-ALT-DESC;FMTTYPE=text/html:Join us as we celebrate the expansion of Tomorrow&#39\;s Promise Montessori Academy.<br />\n<br />\nMontessori is the only educational method developed by a Dr. using the scientific method for what was best for the child.&nbsp\; Come see why Tomorrow&#39\;s Promise is recognized as one of the top rated child care facilities in Walker County!
LOCATION:1157 Veterans Memorial Parkway Huntsville
UID:e.1145.17553
SEQUENCE:3
DTSTAMP:20260424T082807Z
URL:https://business.huntsvillewalkerchamber.com/events/details/expansion-ribbon-cutting-tpms-17553
END:VEVENT

END:VCALENDAR
