BEGIN:VCALENDAR
VERSION:2.0
PRODID:-//ChamberMaster//Event Calendar 2.0//EN
METHOD:PUBLISH
X-PUBLISHED-TTL:P3D
REFRESH-INTERVAL:P3D
CALSCALE:GREGORIAN
BEGIN:VEVENT
DTSTART:20260516T010000Z
DTEND:20260516T030000Z
X-MICROSOFT-CDO-ALLDAYEVENT:FALSE
SUMMARY:End of School Flick & Float
DESCRIPTION:Join the City of Huntsville on Friday\, May 15\, 2026\, at the Frank D. "Poncho" Roberts Aquatic Center located at 912 Ave. N\, for the End of School Flick & Float. Lilo & Stitch will begin on the big screen at 8:00 PM. Admission into the pool is FREE!! Concessions will be available (cash only). No outside coolers. Single-person floats only. For more information\, contact Kristy Wheeler at 936-294-5721 or visit our website at https://huntsvilletx.gov/182/Recreational-Events. You can also visit us on Facebook at www.facebook.com/COH-recservices.
X-ALT-DESC;FMTTYPE=text/html:Join the City of Huntsville on Friday\, May 15\, 2026\, at the Frank D. &ldquo\;Poncho&rdquo\; Roberts Aquatic Center located at 912 Ave. N\, for the End of School Flick &amp\; Float. Lilo &amp\; Stitch will begin on the big screen at 8:00 PM. Admission into the pool is FREE!! Concessions will be available (cash only). No outside coolers. Single-person floats only. For more information\, contact Kristy Wheeler at 936-294-5721 or visit our website at https://huntsvilletx.gov/182/Recreational-Events. You can also visit us on Facebook at www.facebook.com/COH-recservices.
LOCATION:Frank D. "Poncho" Roberts Aquatics Center\, 912 Ave. N.\, Huntsville\, TX 77320.
UID:e.1145.20659
SEQUENCE:3
DTSTAMP:20260420T130245Z
URL:https://business.huntsvillewalkerchamber.com/events/details/end-of-school-flick-float-05-15-2026-20659
END:VEVENT

END:VCALENDAR
