BEGIN:VCALENDAR
VERSION:2.0
PRODID:-//ChamberMaster//Event Calendar 2.0//EN
METHOD:PUBLISH
X-PUBLISHED-TTL:P3D
REFRESH-INTERVAL:P3D
CALSCALE:GREGORIAN
BEGIN:VEVENT
DTSTART:20240511T013000Z
DTEND:20240511T030000Z
X-MICROSOFT-CDO-ALLDAYEVENT:FALSE
SUMMARY:End of School Flick & Float
DESCRIPTION:The City of Huntsville Parks and Leisure Department will be hosting the movie MIGRATION at the Huntsville Aquatic Center on Friday\, May 10\, 2024\, at 8:30 PM!! Gates will open at 8:15 PM! Bring your floats (small\, single-person floats)\, camping chairs\, and towels!! Admission is FREE!! Concession will be available for purchase. No outside coolers are allowed.
X-ALT-DESC;FMTTYPE=text/html:The City of Huntsville Parks and Leisure Department will be hosting the movie MIGRATION at the Huntsville Aquatic Center on Friday\, May 10\, 2024\, at 8:30 PM!! Gates will open at 8:15 PM! Bring your floats (small\, single-person floats)\, camping chairs\, and towels!! Admission is FREE!! Concession will be available for purchase. No outside coolers are allowed.
LOCATION:Huntsville Aquatic Center 912 Ave. N
UID:e.1145.17875
SEQUENCE:3
DTSTAMP:20260422T083711Z
URL:https://business.huntsvillewalkerchamber.com/events/details/end-of-school-flick-float-05-10-2024-17875
END:VEVENT

END:VCALENDAR
