BEGIN:VCALENDAR
VERSION:2.0
PRODID:-//ChamberMaster//Event Calendar 2.0//EN
METHOD:PUBLISH
X-PUBLISHED-TTL:P3D
REFRESH-INTERVAL:P3D
CALSCALE:GREGORIAN
BEGIN:VEVENT
DTSTART:20240309T160000Z
DTEND:20240309T200000Z
X-MICROSOFT-CDO-ALLDAYEVENT:FALSE
SUMMARY:Easter Bunny Pictures
DESCRIPTION:The City of Huntsville Parks and Leisure Department is excited to announce the Easter Bunny is hopping to town!! On Saturday\, March 9\, the Easter Bunny will be awaiting your arrival at the City of Huntsville Service Center\, 448 State Hwy 75 North\, Huntsville\, TX 77340 from 10:00 AM to 2:00 PM. Bring your family and friends for a photo with the Easter Bunny and a chance for your children to make great memories!! All pictures taken will be emailed! Each group will cost $5.00\, CASH AND CREDIT CARD ACCEPTED.
X-ALT-DESC;FMTTYPE=text/html:The City of Huntsville Parks and Leisure Department is excited to announce the Easter Bunny is hopping to town!! On Saturday\, March 9\, the Easter Bunny will be awaiting your arrival at the City of Huntsville Service Center\, 448 State Hwy 75 North\, Huntsville\, TX 77340 from 10:00 AM to 2:00 PM. Bring your family and friends for a photo with the Easter Bunny and a chance for your children to make great memories!! All pictures taken will be emailed! Each group will cost $5.00\, CASH AND CREDIT CARD ACCEPTED.
LOCATION:City of Huntsville Service Center 448 State Hwy 75 North Huntsville\, TX 77340
UID:e.1145.17545
SEQUENCE:3
DTSTAMP:20260422T114447Z
URL:https://business.huntsvillewalkerchamber.com/events/details/easter-bunny-pictures-03-09-2024-17545
END:VEVENT

END:VCALENDAR
