BEGIN:VCALENDAR
VERSION:2.0
PRODID:-//ChamberMaster//Event Calendar 2.0//EN
METHOD:PUBLISH
X-PUBLISHED-TTL:P3D
REFRESH-INTERVAL:P3D
CALSCALE:GREGORIAN
BEGIN:VEVENT
DTSTART:20240519T000000Z
DTEND:20240519T020000Z
X-MICROSOFT-CDO-ALLDAYEVENT:FALSE
SUMMARY:Dunn & Brooks-A Tribute to Brooks & Dunn
DESCRIPTION:Dunn & Brooks Tribute band will be playing all the hits from the famous Brooks & Dunn country group.
X-ALT-DESC;FMTTYPE=text/html:Dunn &amp\; Brooks Tribute band will be playing all the hits from the famous Brooks &amp\; Dunn country group.
LOCATION:Old Town Theatre Downtown Huntsville Texas 1023 12th street
UID:e.1145.17883
SEQUENCE:3
DTSTAMP:20260422T100723Z
URL:https://business.huntsvillewalkerchamber.com/events/details/dunn-brooks-a-tribute-to-brooks-dunn-17883
END:VEVENT

END:VCALENDAR
