BEGIN:VCALENDAR
VERSION:2.0
PRODID:-//ChamberMaster//Event Calendar 2.0//EN
METHOD:PUBLISH
X-PUBLISHED-TTL:P3D
REFRESH-INTERVAL:P3D
CALSCALE:GREGORIAN
BEGIN:VEVENT
DTSTART:20241204T180000Z
DTEND:20241204T190000Z
X-MICROSOFT-CDO-ALLDAYEVENT:FALSE
SUMMARY:Diversity Council Meeting
DESCRIPTION:Committee Purpose/Mission Statement - Attract\, support\, and retain businesses and organizations who reflect our community by providing benefits and resources.\n\nVision Statement - Identify all businesses and organizations within our community to promote diversity and inclusiveness.
X-ALT-DESC;FMTTYPE=text/html:<p style="box-sizing: border-box\; margin: 0px 0px 10px\; color: rgb(34\, 34\, 34)\; font-family: Montserrat\, sans-serif\; font-size: 18px\; background-color: rgb(243\, 243\, 243)\;"><strong style="box-sizing: border-box\;">Committee Purpose/Mission Statement</strong>&nbsp\;- Attract\, support\, and retain businesses and organizations who reflect our community by providing benefits and resources.</p>\n\n<p style="box-sizing: border-box\; margin: 0px 0px 10px\; color: rgb(34\, 34\, 34)\; font-family: Montserrat\, sans-serif\; font-size: 18px\; background-color: rgb(243\, 243\, 243)\;">Vision Statement - Identify all businesses and organizations within our community to promote diversity and inclusiveness.</p>\n
LOCATION:Chamber Conference Room
UID:e.1145.17588
SEQUENCE:3
DTSTAMP:20260421T203420Z
URL:https://business.huntsvillewalkerchamber.com/events/details/diversity-council-meeting-12-04-2024-17588
END:VEVENT

END:VCALENDAR
