BEGIN:VCALENDAR
VERSION:2.0
PRODID:-//ChamberMaster//Event Calendar 2.0//EN
METHOD:PUBLISH
X-PUBLISHED-TTL:P3D
REFRESH-INTERVAL:P3D
CALSCALE:GREGORIAN
BEGIN:VEVENT
DTSTART:20240623T000000Z
DTEND:20240623T020000Z
X-MICROSOFT-CDO-ALLDAYEVENT:FALSE
SUMMARY:Dailey & Vincent
DESCRIPTION:Dailey & Vincent is an award-winning bluegrass group. Jamie Dailey & Darrin Vincent are known for their exceptional instrumental skills and outstanding harmonies. They have been performing together since 2008. This Grammy Nominated group will put on a great show that you will not want to miss out on.
X-ALT-DESC;FMTTYPE=text/html:Dailey &amp\; Vincent is an award-winning bluegrass group. Jamie Dailey &amp\; Darrin Vincent are known for their exceptional instrumental skills and outstanding harmonies. They have been performing together since 2008. This Grammy Nominated group will put on a great show that you will not want to miss out on.
LOCATION:Old Town Theatre Downtown Huntsville 1023 12th street
UID:e.1145.17886
SEQUENCE:3
DTSTAMP:20260420T081814Z
URL:https://business.huntsvillewalkerchamber.com/events/details/dailey-vincent-17886
END:VEVENT

END:VCALENDAR
