BEGIN:VCALENDAR
VERSION:2.0
PRODID:-//ChamberMaster//Event Calendar 2.0//EN
METHOD:PUBLISH
X-PUBLISHED-TTL:P3D
REFRESH-INTERVAL:P3D
CALSCALE:GREGORIAN
BEGIN:VEVENT
DTSTART;VALUE=DATE:20240316
DTEND;VALUE=DATE:20240317
TRANSP:TRANSPARENT
X-MICROSOFT-CDO-ALLDAYEVENT:TRUE
SUMMARY:CONROEBASS WEEKEND SERIES
DESCRIPTION:GET HOOKED WEEKEND SERIES \n\nLOCATED AT MARGARITAVILLE\n\n\n\nREGISTRATION NOW OPEN! \n\n5 FISH!\n\nSAFELIGHT - 3PM\n\n\n\nENTREE FEE:\n\n$160 PER TEAM \n\n$40 OPT. BIG BASS\n\n$60 Membership per person (must be paid at 1st tournament of series that you fish)\n\n\n\nJANUARY 6TH \n\nFEBRUARY 10TH \n\nMARCH 16TH \n\nAPRIL 27TH\n\nMAY 4TH (CHAMPIONSHIP)\n\n\n\nFOR MORE INFORMATION:\n\n936-520-0011\n\nWWW.CONROEBASS.COM
X-ALT-DESC;FMTTYPE=text/html:<u><span style="color:#333333"><span style="font-family:arial\,sans-serif"><span style="font-size:10.0pt">GET HOOKED WEEKEND SERIES&nbsp\;</span></span></span></u><br />\n<span style="color:#333333"><span style="font-family:arial\,sans-serif"><span style="font-size:10.0pt">LOCATED AT MARGARITAVILLE<br />\n<br />\n<em><span style="font-family:arial\,sans-serif">REGISTRATION NOW OPEN!&nbsp\;</span></em><br />\n5 FISH!<br />\nSAFELIGHT - 3PM<br />\n<br />\nENTREE FEE:<br />\n$160 PER TEAM&nbsp\;<br />\n$40 OPT. BIG BASS<br />\n$60 Membership per person (must be paid at 1st tournament of series that you fish)<br />\n<br />\nJANUARY 6TH&nbsp\;<br />\nFEBRUARY 10TH&nbsp\;<br />\nMARCH 16TH&nbsp\;<br />\nAPRIL 27TH<br />\nMAY 4TH (CHAMPIONSHIP)<br />\n<br />\nFOR MORE INFORMATION:<br />\n936-520-0011<br />\nWWW.CONROEBASS.COM</span></span></span>
LOCATION:600 Margaritaville\, Park Way\, Montgomery\, TX 77356
UID:e.1145.17529
SEQUENCE:3
DTSTAMP:20260422T114401Z
URL:https://business.huntsvillewalkerchamber.com/events/details/conroebass-weekend-series-03-16-2024-17529
END:VEVENT

END:VCALENDAR
