BEGIN:VCALENDAR
VERSION:2.0
PRODID:-//ChamberMaster//Event Calendar 2.0//EN
METHOD:PUBLISH
X-PUBLISHED-TTL:P3D
REFRESH-INTERVAL:P3D
CALSCALE:GREGORIAN
BEGIN:VEVENT
DTSTART;VALUE=DATE:20260501
DTEND;VALUE=DATE:20260504
TRANSP:TRANSPARENT
X-MICROSOFT-CDO-ALLDAYEVENT:TRUE
SUMMARY:Cinco de Mayo Fiesta Weekend
DESCRIPTION:Turn your getaway into a full-blown fiesta. Our Cinco de Mayo Weekend brings the spirit of celebration to every corner of the resort with live music\, vibrant entertainment\, festive flavors\, and activities for all ages. From margarita mixers and Latin rhythms to poolside competitions and family movie nights\, this is your invitation to celebrate\, unwind\, and play all weekend long.
X-ALT-DESC;FMTTYPE=text/html:Turn your getaway into a full-blown fiesta. Our Cinco de Mayo Weekend brings the spirit of celebration to every corner of the resort with live music\, vibrant entertainment\, festive flavors\, and activities for all ages. From margarita mixers and Latin rhythms to poolside competitions and family movie nights\, this is your invitation to celebrate\, unwind\, and play&mdash\;all weekend long.
LOCATION:Margaritaville Lake Conroe
UID:e.1145.20661
SEQUENCE:3
DTSTAMP:20260423T192721Z
URL:https://business.huntsvillewalkerchamber.com/events/details/cinco-de-mayo-fiesta-weekend-20661
END:VEVENT

END:VCALENDAR
