BEGIN:VCALENDAR
VERSION:2.0
PRODID:-//ChamberMaster//Event Calendar 2.0//EN
METHOD:PUBLISH
X-PUBLISHED-TTL:P3D
REFRESH-INTERVAL:P3D
CALSCALE:GREGORIAN
BEGIN:VEVENT
DTSTART:20240503T210000Z
DTEND:20240504T230000Z
X-MICROSOFT-CDO-ALLDAYEVENT:FALSE
SUMMARY:Chigger Hill IBCA BBQ Cook Off
DESCRIPTION:This is the 17th ever Chigger Hill BBQ Cook Off\, sanctioned by IBCA and hosted by the Sons and Riders of American Legion Sam Houston Post 95\, here in Huntsville Texas! Cooking team entry is $200\, camping and water available on site\, pre-registration is open! Saturday May 4th will also host a local vendor faire!
X-ALT-DESC;FMTTYPE=text/html:This is the 17th ever Chigger Hill BBQ Cook Off\, sanctioned by IBCA and hosted by the Sons and Riders of American Legion Sam Houston Post 95\, here in Huntsville Texas! Cooking team entry is $200\, camping and water available on site\, pre-registration is open! Saturday May 4th will also host a local vendor faire!
LOCATION:1919 American Legion Drive Huntsville TX 77320
UID:e.1145.17598
SEQUENCE:3
DTSTAMP:20260419T195402Z
URL:https://business.huntsvillewalkerchamber.com/events/details/chigger-hill-ibca-bbq-cook-off-17598
END:VEVENT

END:VCALENDAR
